BEGIN:VCALENDAR
PRODID:NingEventWidget-v1
VERSION:2.0
METHOD:PUBLISH
BEGIN:VEVENT
UID:2371245:Event:41852
DTSTAMP:20260424T000141Z
SUMMARY:Underwater Intervention 2010
DESCRIPTION:Underwater Intervention is the combined annual conference 
 of the Association of Diving Contractors International and the The Mar
 ine Technology Society's ROV Committee.UITechProgforWeb.pdf\n\nFor mor
 e information visit http://community.cdiver.net/events/underwater-inte
 rvention-2010-1
DTSTART:20100209T080000Z
DTEND:20100212T075900Z
CATEGORIES:annual, conference
LOCATION:New Orleans, LA
WEBSITE:http://www.underwaterintervention.com/
URL:http://www.underwaterintervention.com/
CONTACT:1-800-316-2188
ORGANIZER:http://www.underwaterintervention.com/welcome.shtml
ATTACH;FMTTYPE="image/jpeg":http://storage.ning.com/topology/rest/1.0/
 file/get/1655397720?profile=original
ATTENDEE;ROLE=REQ-PARTICIPANT;PARTSTAT=ACCEPTED;RSVP=TRUE;CN="John Boi
 le":http://community.cdiver.net/profile/JohnBoile
ATTENDEE;ROLE=REQ-PARTICIPANT;PARTSTAT=TENTATIVE;RSVP=TRUE;CN="Doug Ne
 wts":http://community.cdiver.net/profile/doug
ATTENDEE;ROLE=REQ-PARTICIPANT;PARTSTAT=TENTATIVE;RSVP=TRUE;CN="Toby Do
 dd":http://community.cdiver.net/profile/tobydodd
END:VEVENT
END:VCALENDAR
