BEGIN:VCALENDAR
PRODID:NingEventWidget-v1
VERSION:2.0
METHOD:PUBLISH
BEGIN:VEVENT
UID:2371245:Event:21924
DTSTAMP:20260424T074820Z
SUMMARY:Offshore Europe
DESCRIPTION:The SPE Offshore Europe Conference & Exhibition attracts a
  global audience of engineers, technical specialists, industry leaders
  and experts, to share ideas, debate the issues of the moment and to c
 reate common agendas for the future of the upstream industry. SPE Offs
 hore Europe is where the E&P community meets to find the solutions req
 uired to keep up with an accelerating technology race, and understand 
 the demands of a changing industry committed to ensuring security of s
 upply in an increasingly complex world.\n\nFor more information visit 
 http://community.cdiver.net/events/offshore-europe
DTSTART:20090908T070000Z
DTEND:20090912T065900Z
CATEGORIES:conference
LOCATION:Aberdeen Exhibition & Conference Centre
WEBSITE:http://www.offshore-europe.co.uk/
URL:http://www.offshore-europe.co.uk/
CONTACT:+44 (0) 20 8271 2142
ORGANIZER:
ATTACH;FMTTYPE="image/jpeg":http://storage.ning.com/topology/rest/1.0/
 file/get/1655390694?profile=original
ATTENDEE;ROLE=REQ-PARTICIPANT;PARTSTAT=ACCEPTED;RSVP=TRUE;CN="Doug New
 ts":http://community.cdiver.net/profile/doug
END:VEVENT
END:VCALENDAR
