BEGIN:VCALENDAR
PRODID:NingEventWidget-v1
VERSION:2.0
METHOD:PUBLISH
BEGIN:VEVENT
UID:2371245:Event:78488
DTSTAMP:20260424T000142Z
SUMMARY:New Book release
DESCRIPTION:A Significant Casualty, a true story focusing on the need 
 to reform the thirty year old commercial diving regulations. Not from 
 an industry point of view but from that of the divers. The story begin
 s in the offshore oil fields of a small middle eastern country during 
 the fall of 1977. A country that few knew existed at the time and fewe
 r could have found on a map. Like the commercial diving regulations a 
 country needing to be brought into the 20th century if it is ever to b
 e of significance. Join us for a discussion of the future of commercia
 l diving. Please RSVP divesafe@msn.com must be 21 or over\n\nFor more 
 information visit http://community.cdiver.net/events/new-book-release
DTSTART:20100725T230000Z
DTEND:20100726T030000Z
CATEGORIES:open, discussion, and, book, signing
LOCATION:2911 2nd Ave Seattle, Washington, 98121
WEBSITE:
URL:
CONTACT:
ORGANIZER;CN="Peter J Pilkington":http://community.cdiver.net/profile/
 PeterJPilkington
ATTACH;FMTTYPE="image/jpeg":
ATTENDEE;ROLE=REQ-PARTICIPANT;PARTSTAT=ACCEPTED;RSVP=TRUE;CN="John Boi
 le":http://community.cdiver.net/profile/JohnBoile
ATTENDEE;ROLE=REQ-PARTICIPANT;PARTSTAT=ACCEPTED;RSVP=TRUE;CN="Peter J 
 Pilkington":http://community.cdiver.net/profile/PeterJPilkington
END:VEVENT
END:VCALENDAR
