BEGIN:VCALENDAR
PRODID:NingEventWidget-v1
VERSION:2.0
METHOD:PUBLISH
BEGIN:VEVENT
UID:2371245:Event:31613
DTSTAMP:20260424T000236Z
SUMMARY:IMCA Safety Seminar
DESCRIPTION:The 2010 safety seminar will take place on 24-25 February 
 in Singapore.\n\nA call for papers has now been issued.\n\nFor more in
 formation visit http://community.cdiver.net/events/imca-safety-seminar
DTSTART:20100224T080000Z
DTEND:20100226T075900Z
CATEGORIES:seminar
LOCATION:Singapore
WEBSITE:http://imca-int.com
URL:http://imca-int.com
CONTACT:
ORGANIZER:IMCA
ATTACH;FMTTYPE="image/jpeg":http://storage.ning.com/topology/rest/1.0/
 file/get/1655395151?profile=original
ATTENDEE;ROLE=REQ-PARTICIPANT;PARTSTAT=ACCEPTED;RSVP=TRUE;CN="John Boi
 le":http://community.cdiver.net/profile/JohnBoile
ATTENDEE;ROLE=REQ-PARTICIPANT;PARTSTAT=ACCEPTED;RSVP=TRUE;CN="mason mi
 tchell":http://community.cdiver.net/profile/masonmitchell
ATTENDEE;ROLE=REQ-PARTICIPANT;PARTSTAT=ACCEPTED;RSVP=TRUE;CN=rien69:ht
 tp://community.cdiver.net/profile/AzharienbMohammadRajap
ATTENDEE;ROLE=REQ-PARTICIPANT;PARTSTAT=ACCEPTED;RSVP=TRUE;CN="Doug New
 ts":http://community.cdiver.net/profile/doug
ATTENDEE;ROLE=REQ-PARTICIPANT;PARTSTAT=TENTATIVE;RSVP=TRUE;CN=benhoe19
 81:http://community.cdiver.net/profile/benhoe1981
ATTENDEE;ROLE=REQ-PARTICIPANT;PARTSTAT=TENTATIVE;RSVP=TRUE;CN="Julius 
 Ugwala":http://community.cdiver.net/profile/JuliusUgwala
ATTENDEE;ROLE=REQ-PARTICIPANT;PARTSTAT=TENTATIVE;RSVP=TRUE;CN="Toby Do
 dd":http://community.cdiver.net/profile/tobydodd
END:VEVENT
END:VCALENDAR
