BEGIN:VCALENDAR
PRODID:NingEventWidget-v1
VERSION:2.0
METHOD:PUBLISH
BEGIN:VEVENT
UID:2371245:Event:21911
DTSTAMP:20260424T093958Z
SUMMARY:IMCA Asia-Pacific Section Quarterly Meeting
DESCRIPTION:The Asia-Pacific Section holds quarterly meetings where me
 mbers discuss IMCA's global work and local issues, with clients and po
 tential member guests joining the meetings for presentations on curren
 t IMCA work and a variety of other topical issues. Meetings move aroun
 d the region, with recent venues including Australia, Indonesia, Malay
 sia, Singapore and Thailand.\n\nThe section is also active between mee
 tings on national regulatory developments, where members are briefed a
 nd consulted and industry responses submitted by IMCA as required, and
  through workgroups set up from time to time for specific work items, 
 which have help further enhance the range of guidance produced by the 
 association.\n\nMembers in the region elect representatives to serve o
 n each of the association's committees that direct the world-wide work
  programme.\n\nFor more information visit http://community.cdiver.net/
 events/imca-asiapacific-section
DTSTART:20090813T070000Z
DTEND:20090814T065900Z
CATEGORIES:quarterly, meeting
LOCATION:Landmark Hotel
WEBSITE:http://www.imca-int.com/regions/asiapacific/
URL:http://www.imca-int.com/regions/asiapacific/
CONTACT:
ORGANIZER:
ATTACH;FMTTYPE="image/jpeg":http://storage.ning.com/topology/rest/1.0/
 file/get/1655390529?profile=original
ATTENDEE;ROLE=REQ-PARTICIPANT;PARTSTAT=ACCEPTED;RSVP=TRUE;CN="John Boi
 le":http://community.cdiver.net/profile/JohnBoile
ATTENDEE;ROLE=REQ-PARTICIPANT;PARTSTAT=ACCEPTED;RSVP=TRUE;CN="Doug New
 ts":http://community.cdiver.net/profile/doug
END:VEVENT
END:VCALENDAR
