BEGIN:VCALENDAR
PRODID:NingEventWidget-v1
VERSION:2.0
METHOD:PUBLISH
BEGIN:VEVENT
UID:2371245:Event:1094
DTSTAMP:20260424T000323Z
SUMMARY:IMCA Annual Seminar 2009
DESCRIPTION:Integrated marine operations in challenging times.\n\nThe 
 event is organised by all four IMCA technical divisions and will inclu
 de separate Marine, Diving and Offshore Survey/ROV sessions. The forma
 t will again include keynote presentations on commercial/contracting i
 ssues, plenary sessions, streamed presentation sessions and parallel w
 orkshops on a variety of issues, as well as the associated exhibition 
 of supplier members and variety of social and networking events.\n\nFo
 r more information visit http://community.cdiver.net/events/imca-annua
 l-seminar-2009
DTSTART:20091104T160000Z
DTEND:20091104T170000Z
CATEGORIES:Seminar
LOCATION:Sofitel, Rio de Janeiro
WEBSITE:http://www.imca-int.com/events/seminar/
URL:http://www.imca-int.com/events/seminar/
CONTACT:+44 (0) 20 7824 5520
ORGANIZER:IMCA
ATTACH;FMTTYPE="image/jpeg":http://storage.ning.com/topology/rest/1.0/
 file/get/1655383734?profile=original
ATTENDEE;ROLE=REQ-PARTICIPANT;PARTSTAT=ACCEPTED;RSVP=TRUE;CN="John Boi
 le":http://community.cdiver.net/profile/JohnBoile
ATTENDEE;ROLE=REQ-PARTICIPANT;PARTSTAT=ACCEPTED;RSVP=TRUE;CN=scaphandr
 ier69:http://community.cdiver.net/profile/JiorjisMarantidis
ATTENDEE;ROLE=REQ-PARTICIPANT;PARTSTAT=ACCEPTED;RSVP=TRUE;CN="Dan Dols
 on":http://community.cdiver.net/profile/dolson
ATTENDEE;ROLE=REQ-PARTICIPANT;PARTSTAT=ACCEPTED;RSVP=TRUE;CN="Doug New
 ts":http://community.cdiver.net/profile/doug
END:VEVENT
END:VCALENDAR
