BEGIN:VCALENDAR
PRODID:NingEventWidget-v1
VERSION:2.0
METHOD:PUBLISH
BEGIN:VEVENT
UID:2371245:Event:239188
DTSTAMP:20260423T234454Z
SUMMARY:Historic Diving Helmet Auction July 18th, 2020
DESCRIPTION:Nationâ€™s Attic Inc. is proud to announce the discovery o
 f the earliest unaltered original United States Navy Mark V diving hel
 met known to exist! The helmet was sent to the Navy in August of 1916 
 for evaluation. After testing this specific helmet was then lost to hi
 story. The Mark V model would go on to be used by the US Navy and alli
 ed countries from 1916 until the mid-1980s. The helmets iconic design 
 also made it famous in movies & advertising. In Feb. 2020, this histor
 ic piece of diving and US Navy history from August 24th, 1916 was disc
 overed in rural Wisconsin. The helmet is being sold on July 18th, 2020
  by Nationâ€™s Attic Inc at auction. The helmet has the potential to b
 reak the world record sales price for an antique diving helmet, which 
 is currently $62,390.\nThe July 18th auction also consists of 21 other
  antique & vintage diving helmets, related equipment, maritime memorab
 ilia, and rare vintage scuba equipment. The helmets along with rare re
 lated equipment and memorabilia are being auctioned through LiveAuctio
 neers.com and Invaluable.com. Preview & pre-bidding has begun with the
  live auction starting at 10 am Central Time (CST) July 18th.\nNationâ
 €™s Attic Inc. has been in business for 14 years and is the largest de
 aler of authentic diving helmets in the world. Located in Wichita, Kan
 sas, their unlikely location for such items has not hindered them from
  sending these pieces of diving history to all parts of the world. Dis
 covering antique diving helmets in the most unlikely places and then f
 inding new homes for them is Nationâ€™s Attic passion & specialty!Â \n
 For more information about Nationâ€™s Attic Inc, please visitÂ www.Old
 Helmet.comÂ Â    Link To 1916 USN Diving Helmet: https://www.liveaucti
 oneers.com/item/85312103_1916-us-navy-morse-mark-v-diving-helmet-earli
 est-known \n\nFor more information visit http://community.cdiver.net/e
 vents/historic-diving-helmet-auction-july-18th-2020
DTSTART:20200718T170000Z
DTEND:20200718T210000Z
CATEGORIES:auction
LOCATION:Online - LiveAuctioneers.com or Invaluable.com
WEBSITE:
URL:
CONTACT:
ORGANIZER;CN="Nation's Attic Inc":http://community.cdiver.net/profile/
 NationsAtticInc
ATTACH;FMTTYPE="image/jpeg":
ATTENDEE;ROLE=REQ-PARTICIPANT;PARTSTAT=ACCEPTED;RSVP=TRUE;CN="Nation's
  Attic Inc":http://community.cdiver.net/profile/NationsAtticInc
END:VEVENT
END:VCALENDAR
