BEGIN:VCALENDAR
PRODID:NingEventWidget-v1
VERSION:2.0
METHOD:PUBLISH
BEGIN:VEVENT
UID:2371245:Event:200549
DTSTAMP:20260423T214408Z
SUMMARY:Fluorescence workshop in Egypt
DESCRIPTION:We were the first who invented in 2007 HighTech/HighPower 
 fluorescence torches. I will perform platform presentations (multimedi
 a) espececally for recreational divers to demonstrate the worldwide th
 reat of coral reefs. During nightdives I will preferentially show cora
 ls under threat. So my intention is not to make beautiful photos for f
 un only, but inform the participants about methods of sustainability. 
 Since I am embryologist and molecular biologist the audience get infor
 mations about the life cycle of corals and their problems with environ
 mental threats. They also will learn that the corals show fluorescence
  under blue light (short wave lenght) and that the contain proteins (G
 FP, modified green fluorescent protein), which is stimulate to give ra
 inbow like colors. By the way this GFP was fist found and characterize
 d in a jelly fish. 3 scientists got the nobel prize for chemistry in 2
 008.\nDetails unfortunately in German (is a popular German Diver Journ
 al) http://www.taucher.net/aktuell_Fluoreszenz_Workshop_am_Roten_Meer_
 5421.html\nand my WEB-page: https://www.uni-due.de/zoophysiologie/\n\n
 For more information visit http://community.cdiver.net/events/fluoresc
 ence-workshop-in-egypt
DTSTART:20150508T070000Z
DTEND:20150525T065900Z
CATEGORIES:workshop
LOCATION:Marsa Shagra, Marsa Alam , Egypt
WEBSITE:http://www.redsea-divingsafari.com
URL:http://www.redsea-divingsafari.com
CONTACT:
ORGANIZER;CN="Horst Grunz University professor":http://community.cdive
 r.net/profile/HorstGrunzUniversityprofessor
ATTACH;FMTTYPE="image/jpeg":
ATTENDEE;ROLE=REQ-PARTICIPANT;PARTSTAT=ACCEPTED;RSVP=TRUE;CN="John Boi
 le":http://community.cdiver.net/profile/JohnBoile
ATTENDEE;ROLE=REQ-PARTICIPANT;PARTSTAT=ACCEPTED;RSVP=TRUE;CN="Horst Gr
 unz University professor":http://community.cdiver.net/profile/HorstGru
 nzUniversityprofessor
END:VEVENT
END:VCALENDAR
