BEGIN:VCALENDAR
PRODID:NingEventWidget-v1
VERSION:2.0
METHOD:PUBLISH
BEGIN:VEVENT
UID:2371245:Event:31041
DTSTAMP:20260424T015627Z
SUMMARY:European Offshore Wind 2009
DESCRIPTION:The conference programme offers over 23 sessions and numer
 ous side events covering different aspects of offshore wind developmen
 ts.\n\nLearn about the latest projects, products and services from the
  brightest minds in the sector.\n\nShare strategies and best practice 
 with your peers from a wide range of backgrounds.\n\nIdentify importan
 t new business leads and strengthen relationships with your existing c
 ontacts.\n\nFor more information visit http://community.cdiver.net/eve
 nts/european-offshore-wind-2009-1
DTSTART:20090914T070000Z
DTEND:20090917T065900Z
CATEGORIES:conference, "&", exhibition
LOCATION:Stockholm International Fairs (Stockholmsmässan)
WEBSITE:http://www.offshorewind2009.info
URL:http://www.offshorewind2009.info
CONTACT:+32 2 400 10 07
ORGANIZER:European Wind Energy Association
ATTACH;FMTTYPE="image/jpeg":http://storage.ning.com/topology/rest/1.0/
 file/get/1655392700?profile=original
ATTENDEE;ROLE=REQ-PARTICIPANT;PARTSTAT=ACCEPTED;RSVP=TRUE;CN="John Boi
 le":http://community.cdiver.net/profile/JohnBoile
ATTENDEE;ROLE=REQ-PARTICIPANT;PARTSTAT=ACCEPTED;RSVP=TRUE;CN="Doug New
 ts":http://community.cdiver.net/profile/doug
END:VEVENT
END:VCALENDAR
