BEGIN:VCALENDAR
PRODID:NingEventWidget-v1
VERSION:2.0
METHOD:PUBLISH
BEGIN:VEVENT
UID:2371245:Event:329633
DTSTAMP:20260424T001452Z
SUMMARY:Diving Into History Auction
DESCRIPTION:\n\nFor more information visit http://community.cdiver.net
 /events/diving-into-history-auction
DTSTART:20210717T070000Z
DTEND:20210718T065900Z
CATEGORIES:auction
LOCATION:Online
WEBSITE:
URL:
CONTACT:316-371-1828
ORGANIZER;CN="Nation's Attic Inc":http://community.cdiver.net/profile/
 NationsAtticInc
ATTACH;FMTTYPE="image/jpeg":
ATTENDEE;ROLE=REQ-PARTICIPANT;PARTSTAT=ACCEPTED;RSVP=TRUE;CN="Nation's
  Attic Inc":http://community.cdiver.net/profile/NationsAtticInc
END:VEVENT
END:VCALENDAR
