BEGIN:VCALENDAR
PRODID:NingEventWidget-v1
VERSION:2.0
METHOD:PUBLISH
BEGIN:VEVENT
UID:2371245:Event:21919
DTSTAMP:20260424T000237Z
SUMMARY:Deepwater Southeast Asia Congress
DESCRIPTION:Deepwater Southeast Asia Congress (DSAC) 2009 is a second 
 annual event with a focus on the offshore market in the region of SE A
 sia.\n\nThe event gathers major NOCs and IOCs active in the region to 
 discuss the key issues facing the deepwater market place. The event ac
 hieved a great success in 2008, gathering 180+ delegates from 15+ coun
 tries around the world.\n\nDespite the economic downturn in 2009, DSAC
  anticipates a major breakthrough in its scale. We expect a minimum 25
 % year-on-year growth for the total number of participants and we ende
 avor to cover a wider scope of offshore market place in Asia. Offshore
  blocks in the Indian Ocean amd Austrasia region will be brought into 
 discussion for the first time; while, SE Asia remains the major catch 
 for the conference topics.\n\nFor a brief introduction, please find ho
 t topics of the conference as follows:\nMajor investment opportunities
  in the offshore acreage of SE Asia (inclusive of Malaysia, Brunei, Vi
 etnam, Philippine, Myanmar and Thailand)\nEmerging investment opportun
 ities from Indian Ocean & Austrasia region\nFund raising strategies fo
 r oil & gas companies during the turbulent time\nOverview and predicti
 on of deepwater drilling market\nStrategies for marginal field develop
 ment with FLNG technologies\nState-of-the-art technologies shared from
  major engineering contractors\n\nEvent schedule:\nOct 13 Pre-conferen
 ce workshop: Commercializing marginal field developments with FLNG tec
 hnology\nOct 14-15 Main conference\n\nFor more information visit http:
 //community.cdiver.net/events/deepwater-southeast-asia
DTSTART:20091005T070000Z
DTEND:20091008T065900Z
CATEGORIES:conference
LOCATION:Parkroyal Kuala Lumpur
WEBSITE:http://www.dsacongress.com/
URL:http://www.dsacongress.com/
CONTACT:+86 21 5108 6710
ORGANIZER:
ATTACH;FMTTYPE="image/jpeg":http://storage.ning.com/topology/rest/1.0/
 file/get/1655390664?profile=original
ATTENDEE;ROLE=REQ-PARTICIPANT;PARTSTAT=ACCEPTED;RSVP=TRUE;CN="John Boi
 le":http://community.cdiver.net/profile/JohnBoile
ATTENDEE;ROLE=REQ-PARTICIPANT;PARTSTAT=ACCEPTED;RSVP=TRUE;CN="Doug New
 ts":http://community.cdiver.net/profile/doug
END:VEVENT
END:VCALENDAR
