BEGIN:VCALENDAR
PRODID:NingEventWidget-v1
VERSION:2.0
METHOD:PUBLISH
BEGIN:VEVENT
UID:2371245:Event:23729
DTSTAMP:20260424T000211Z
SUMMARY:Dam Safety 2009
DESCRIPTION:ASDSO would like to welcome you to Dam Safety '09, one of 
 the leading conferences in the United States dedicated to dam safety e
 ngineering and technology transfer. Dam Safety 2009 will attract appro
 ximately 850 attendees from all 50 states plus Puerto Rico, and severa
 l nations.\n\nFor more information visit http://community.cdiver.net/e
 vents/dam-safety-2009
DTSTART:20090927T070000Z
DTEND:20091002T065900Z
CATEGORIES:conference
LOCATION:Westin Diplomat Resort & Spa
WEBSITE:http://www.damsafety.org
URL:http://www.damsafety.org
CONTACT:859.257.5140
ORGANIZER:
ATTACH;FMTTYPE="image/jpeg":http://storage.ning.com/topology/rest/1.0/
 file/get/1655391363?profile=original
ATTENDEE;ROLE=REQ-PARTICIPANT;PARTSTAT=ACCEPTED;RSVP=TRUE;CN="Doug New
 ts":http://community.cdiver.net/profile/doug
ATTENDEE;ROLE=REQ-PARTICIPANT;PARTSTAT=TENTATIVE;RSVP=TRUE;CN="Stephen
  Hyson":http://community.cdiver.net/profile/StephenHyson
END:VEVENT
END:VCALENDAR
