BEGIN:VCALENDAR
PRODID:NingEventWidget-v1
VERSION:2.0
METHOD:PUBLISH
BEGIN:VEVENT
UID:2371245:Event:122283
DTSTAMP:20260423T235230Z
SUMMARY:Commercial Diver and Diving Operations Asia 2012 (CDDO)
DESCRIPTION:DON'T MISS IT!Civil, naval and military divers and contrac
 tors worldwide are invited to attend the first international conferenc
 e and exhibition for the fast-growing and high-value commercial diving
  industry.Â Is your company prepared with the training, safety measure
 s, products and contacts needed to conduct business internationally?\n
 Please go to our website www.cddo.co.uk to read more about current iss
 ues of diver training, health and safety and international certificati
 on. Our article there also focuses on commercial diving and its connec
 tion to renewable energy projects.Â \nÂ The commercial diving sector i
 s currently expanding to include Europe, the Middle East, Africa and S
 outh America, with particular emphasis on Southeast Asian operations.Â
  This unique conference and exhibition,Â Commercial Diver and Diving O
 perations, will be held in Singapore in the brand new Marina Bay Sands
  Exhibition Centre from 3Â - 4 April 2012. The conference will touch o
 n all aspects of the industry, and exhibition space is now open to all
  sectors.Â Cost Effective, High Visibility, Cross SectorWhere else cou
 ld you sell or launch products while increasing your visibility and ne
 tworking with peers and prospects at the same time? Colleagues from al
 l diving sectors - shallow and subsea, commercial and scientific - wil
 l profit from the high information exhange and product exposure.Â Book
 ingTo book and to discuss your involvement in CDDO go to, go toÂ www.c
 ddo.co.ukorÂ contactÂ Nele Andersch, project director, on tel. +44 (0)
 1590 679977 orandersch@referencepoint.de.\n\nWe are looking forward to
  speaking to you.\nÂ \nCDDO - The one and only!\n\nFor more informatio
 n visit http://community.cdiver.net/events/commercial-diver-and-diving
DTSTART:20120403T070000Z
DTEND:20120405T065900Z
CATEGORIES:international, conference, and, exhibition
LOCATION:Singapore, Marina Bay Sands Exhibition Centre
WEBSITE:http://www.cddo.co.uk
URL:http://www.cddo.co.uk
CONTACT:+44(0)1590 67 99 77
ORGANIZER:Nele Andersch, Quartz Business Media and UMC - The Underwate
 r Maintenance Company
ATTACH;FMTTYPE="image/jpeg":
ATTENDEE;ROLE=REQ-PARTICIPANT;PARTSTAT=ACCEPTED;RSVP=TRUE;CN="John Boi
 le":http://community.cdiver.net/profile/JohnBoile
ATTENDEE;ROLE=REQ-PARTICIPANT;PARTSTAT=ACCEPTED;RSVP=TRUE;CN="KYU SIK 
 LEE":http://community.cdiver.net/profile/KYUSIKLEE
ATTENDEE;ROLE=REQ-PARTICIPANT;PARTSTAT=ACCEPTED;RSVP=TRUE;CN="Nele And
 ersch":http://community.cdiver.net/profile/NeleAndersch
END:VEVENT
END:VCALENDAR
