BEGIN:VCALENDAR
PRODID:NingEventWidget-v1
VERSION:2.0
METHOD:PUBLISH
BEGIN:VEVENT
UID:2371245:Event:24227
DTSTAMP:20260424T053145Z
SUMMARY:Canadian Underwater Conference and Exhibition 2009
DESCRIPTION:The conference addresses commercial diving and remotely op
 erated vehicles working in the offshore and inland waters.\n\nThe them
 e of this year’s conference is “Man & Machine Underwater: Operatio
 ns and Initiatives”.\n\nFor more information visit http://community.
 cdiver.net/events/canadian-underwater-conference
DTSTART:20090913T070000Z
DTEND:20090916T065900Z
CATEGORIES:conference
LOCATION:World Trade & Convention Centre
WEBSITE:http://underwaterconference.ca/content/Home
URL:http://underwaterconference.ca/content/Home
CONTACT:(416) 491 5050
ORGANIZER:
ATTACH;FMTTYPE="image/jpeg":http://storage.ning.com/topology/rest/1.0/
 file/get/1655392083?profile=original
ATTENDEE;ROLE=REQ-PARTICIPANT;PARTSTAT=ACCEPTED;RSVP=TRUE;CN="John Boi
 le":http://community.cdiver.net/profile/JohnBoile
ATTENDEE;ROLE=REQ-PARTICIPANT;PARTSTAT=ACCEPTED;RSVP=TRUE;CN="Doug New
 ts":http://community.cdiver.net/profile/doug
END:VEVENT
END:VCALENDAR
