BEGIN:VCALENDAR
PRODID:NingEventWidget-v1
VERSION:2.0
METHOD:PUBLISH
BEGIN:VEVENT
UID:2371245:Event:24224
DTSTAMP:20260424T113838Z
SUMMARY:AUVSIâ€™s Unmanned Systems North America 2009
DESCRIPTION:AUVSIâ€™s Unmanned Systems North America 2009 is the world
 â€™s largest event focusing on the international ground, air and marit
 ime unmanned systems marketplace. It will host the largest gathering o
 f government, business, technology and academic leaders in the unmanne
 d systems community. We will have a plenary session featuring senior u
 nmanned systems speakers addressing both defense and civilian markets.
  Attendees can listen to 136 oral and poster session presentations, an
 d visit over 300 exhibitors on the 230,000 gross square foot (22,000 s
 quare meter) Walter E. Washington Convention Center Exhibit Hall. Donâ
 €™t miss the opportunity to network, meet the newest industry trailbla
 zers and learn about the latest developments in unmanned systems. Ther
 e is no better investment of your time, money, or resources.\n\nFor mo
 re information visit http://community.cdiver.net/events/auvsis-unmanne
 d-systems-north
DTSTART:20090810T070000Z
DTEND:20090814T065900Z
CATEGORIES:convention
LOCATION:Walter E. Washington Convention Center
WEBSITE:http://symposium.auvsi.org/show/index.php
URL:http://symposium.auvsi.org/show/index.php
CONTACT:+1 703 845 9671
ORGANIZER:
ATTACH;FMTTYPE="image/jpeg":
ATTENDEE;ROLE=REQ-PARTICIPANT;PARTSTAT=ACCEPTED;RSVP=TRUE;CN="John Boi
 le":http://community.cdiver.net/profile/JohnBoile
ATTENDEE;ROLE=REQ-PARTICIPANT;PARTSTAT=ACCEPTED;RSVP=TRUE;CN="Doug New
 ts":http://community.cdiver.net/profile/doug
END:VEVENT
END:VCALENDAR
